BEGIN:VCALENDAR
VERSION:2.0
PRODID:-//Lockwood Financial Strategies LLC - ECPv6.15.20//NONSGML v1.0//EN
CALSCALE:GREGORIAN
METHOD:PUBLISH
X-ORIGINAL-URL:https://lockwoodfinancialstrategies.com
X-WR-CALDESC:Events for Lockwood Financial Strategies LLC
REFRESH-INTERVAL;VALUE=DURATION:PT1H
X-Robots-Tag:noindex
X-PUBLISHED-TTL:PT1H
BEGIN:VTIMEZONE
TZID:Asia/Katmandu
BEGIN:STANDARD
TZOFFSETFROM:+0545
TZOFFSETTO:+0545
TZNAME:+0545
DTSTART:20230101T000000
END:STANDARD
END:VTIMEZONE
BEGIN:VEVENT
DTSTART;TZID=Asia/Katmandu:20241122T180000
DTEND;TZID=Asia/Katmandu:20241122T210000
DTSTAMP:20260420T002257
CREATED:20241003T021758Z
LAST-MODIFIED:20241023T160515Z
UID:2744-1732298400-1732309200@lockwoodfinancialstrategies.com
SUMMARY:Lockwood Financial Holiday Party 2024
DESCRIPTION:
URL:https://lockwoodfinancialstrategies.com/event/lockwood-financial-holiday-party-2024/
LOCATION:The Teachout Building\, 500 East Locust\, Des Moines\, IA\, 50309\, United States
ORGANIZER;CN="Lauren Rash":MAILTO:lrash@parklandrep.com
END:VEVENT
END:VCALENDAR