BEGIN:VCALENDAR
VERSION:2.0
PRODID:-//Lockwood Financial Strategies LLC - ECPv6.15.20//NONSGML v1.0//EN
CALSCALE:GREGORIAN
METHOD:PUBLISH
X-WR-CALNAME:Lockwood Financial Strategies LLC
X-ORIGINAL-URL:https://lockwoodfinancialstrategies.com
X-WR-CALDESC:Events for Lockwood Financial Strategies LLC
REFRESH-INTERVAL;VALUE=DURATION:PT1H
X-Robots-Tag:noindex
X-PUBLISHED-TTL:PT1H
BEGIN:VTIMEZONE
TZID:Asia/Katmandu
BEGIN:STANDARD
TZOFFSETFROM:+0545
TZOFFSETTO:+0545
TZNAME:+0545
DTSTART:20200101T000000
END:STANDARD
END:VTIMEZONE
BEGIN:VEVENT
DTSTART;TZID=Asia/Katmandu:20210527T173000
DTEND;TZID=Asia/Katmandu:20210527T210000
DTSTAMP:20260423T031203
CREATED:20210501T054340Z
LAST-MODIFIED:20210501T054657Z
UID:1996-1622136600-1622149200@lockwoodfinancialstrategies.com
SUMMARY:Jasper Winery Summer Concert Series Client Appreciation Event
DESCRIPTION:  \n \n  \nThursday May 27 \n5:30-9:00\nBrother Trucker \n  \nThis is always a favorite client event! We want you to relax and feel appreciated. We encourage everyone to bring a guest or two\, as we welcome the introductions. There is no charge for this event\, but it is an “invite only” event. There will be complimentary drinks and pizza provided by Gusto. A Des Moines favorite\, Brother Trucker will be performing! \n  \nThis is a kid friendly event \nBe sure to bring a blanket and/or a folding chair \n \n2400 George Flagg Pkwy \nDes Moines\, IA 50321 \n  \nLOCATED JUST MINUTES FROM DOWNTOWN DES MOINES\, JASPER WINERY IS AN “ESTATE STYLE” WINERY FACILITY IN THE HEART OF THE METRO AREA. WE SPECIALIZE IN PREMIUM QUALITY WINES USING GRAPES SOURCED FROM VINEYARDS THROUGHOUT CENTRAL IOWA. WE ARE OPEN SEVEN DAYS A WEEK FOR TASTINGS AND A RELAXING VIEW OF THE ONSITE VINEYARDS. \n  \nLockwood Financial Strategies \n3100 Ingersoll Ave. \nDes Moines\, IA 50312 \n515-274-8006 \nSecurities offered through Parkland Securities\, LLC\, member FINRA (FINRA.org) and SIPC (SIPC.org). Investment Advisory services offered through SPC\, a Registered Investment Advisor. Lockwood Financial Strategies\, LLC is independent of Parkland Securities\, LLC and SPC \n 
URL:https://lockwoodfinancialstrategies.com/event/jasper-winery-summer-concert-series-client-appreciation-event/
LOCATION:Jasper Winery\, 2400 George Flagg Parkway\, Des Moines\, IA\, 50321\, United States
ORGANIZER;CN="Philip Lockwood":MAILTO:Plockwood@parklandrep.com
END:VEVENT
END:VCALENDAR