BEGIN:VCALENDAR
VERSION:2.0
PRODID:-//Lockwood Financial Strategies LLC - ECPv6.15.20//NONSGML v1.0//EN
CALSCALE:GREGORIAN
METHOD:PUBLISH
X-ORIGINAL-URL:https://lockwoodfinancialstrategies.com
X-WR-CALDESC:Events for Lockwood Financial Strategies LLC
REFRESH-INTERVAL;VALUE=DURATION:PT1H
X-Robots-Tag:noindex
X-PUBLISHED-TTL:PT1H
BEGIN:VTIMEZONE
TZID:Asia/Katmandu
BEGIN:STANDARD
TZOFFSETFROM:+0545
TZOFFSETTO:+0545
TZNAME:+0545
DTSTART:20190101T000000
END:STANDARD
END:VTIMEZONE
BEGIN:VEVENT
DTSTART;TZID=Asia/Katmandu:20200618T170000
DTEND;TZID=Asia/Katmandu:20200618T170000
DTSTAMP:20260425T153506
CREATED:20200214T075445Z
LAST-MODIFIED:20200214T082256Z
UID:1414-1592499600-1592499600@lockwoodfinancialstrategies.com
SUMMARY:I-Cubs Appreciation Event
DESCRIPTION:Throughout the year we will be doing a few events like this just to say “Thank you”. \nI will be hosting a tailgate prior to the game in the parking lot. Lockwood Financial Strategies will provide catering from Jethro’s. The tailgate will be from 5:00 p.m. until game time at 7 p.m. We have reserved Section A Rows 2-4. Fireworks will follow the game. This event is Child/Grand Child Friendly. Please register all of the individuals attending \n \n  \nPlease include e-mail address for each person registered – we will send out updates as the event gets closer. \nLockwood Financial Strategies \n3100 Ingersoll Ave. \nDes Moines\, IA 50312 \n515-274-8006 \n  \nSecurities offered through Parkland Securities\, LLC\, member FINRA (FINRA.org) and SIPC (SIPC.org). Investment Advisory services offered through SPC\, a Registered Investment Advisor. Lockwood Financial Strategies\, LLC is independent of Parkland Securities\, LLC and SPC
URL:https://lockwoodfinancialstrategies.com/event/i-cubs-appreciation-event/
LOCATION:Principal Park\, 1 Line Dr.\, Des Moines\, IA\, 50309\, United States
END:VEVENT
END:VCALENDAR